BEGIN:VCALENDAR
VERSION:2.0
PRODID:-//Pierredeplumes - ECPv6.11.2//NONSGML v1.0//EN
CALSCALE:GREGORIAN
METHOD:PUBLISH
X-WR-CALNAME:Pierredeplumes
X-ORIGINAL-URL:https://www.pierredeplumes-editions.com
X-WR-CALDESC:Évènements pour Pierredeplumes
REFRESH-INTERVAL;VALUE=DURATION:PT1H
X-Robots-Tag:noindex
X-PUBLISHED-TTL:PT1H
BEGIN:VTIMEZONE
TZID:Europe/Paris
BEGIN:DAYLIGHT
TZOFFSETFROM:+0100
TZOFFSETTO:+0200
TZNAME:CEST
DTSTART:20260329T010000
END:DAYLIGHT
BEGIN:STANDARD
TZOFFSETFROM:+0200
TZOFFSETTO:+0100
TZNAME:CET
DTSTART:20261025T010000
END:STANDARD
END:VTIMEZONE
BEGIN:VEVENT
DTSTART;TZID=Europe/Paris:20261114T100000
DTEND;TZID=Europe/Paris:20261114T180000
DTSTAMP:20260421T150653
CREATED:20260414T150739Z
LAST-MODIFIED:20260414T150740Z
UID:3246-1794650400-1794679200@www.pierredeplumes-editions.com
SUMMARY:Village de Noël au Château de la Gressière - La Bernerie-en-Retz (44)
DESCRIPTION:
URL:https://www.pierredeplumes-editions.com/event/village-de-noel-au-chateau-de-la-gressiere-la-bernerie-en-retz-44-3/
END:VEVENT
BEGIN:VEVENT
DTSTART;TZID=Europe/Paris:20261115T100000
DTEND;TZID=Europe/Paris:20261115T180000
DTSTAMP:20260421T150653
CREATED:20260414T150744Z
LAST-MODIFIED:20260414T150745Z
UID:3248-1794736800-1794765600@www.pierredeplumes-editions.com
SUMMARY:Village de Noël au Château de la Gressière - La Bernerie-en-Retz (44)
DESCRIPTION:
URL:https://www.pierredeplumes-editions.com/event/village-de-noel-au-chateau-de-la-gressiere-la-bernerie-en-retz-44-4/
END:VEVENT
BEGIN:VEVENT
DTSTART;TZID=Europe/Paris:20261122T100000
DTEND;TZID=Europe/Paris:20261122T170000
DTSTAMP:20260421T150653
CREATED:20260414T150626Z
LAST-MODIFIED:20260414T150627Z
UID:3250-1795341600-1795366800@www.pierredeplumes-editions.com
SUMMARY:Salon du livre « La Gourmandise du Livre » - Saint-Lumine-de-Clisson (44)
DESCRIPTION:
URL:https://www.pierredeplumes-editions.com/event/salon-du-livre-la-gourmandise-du-livre-saint-lumine-de-clisson-44/
END:VEVENT
END:VCALENDAR